BEGIN:VCALENDAR
VERSION:2.0
PRODID:-//Mobility Network at the University of Toronto - ECPv6.0.12//NONSGML v1.0//EN
CALSCALE:GREGORIAN
METHOD:PUBLISH
X-ORIGINAL-URL:https://www.mobilitynetwork.utoronto.ca
X-WR-CALDESC:Events for Mobility Network at the University of Toronto
REFRESH-INTERVAL;VALUE=DURATION:PT1H
X-Robots-Tag:noindex
X-PUBLISHED-TTL:PT1H
BEGIN:VTIMEZONE
TZID:America/Toronto
BEGIN:DAYLIGHT
TZOFFSETFROM:-0500
TZOFFSETTO:-0400
TZNAME:EDT
DTSTART:20230312T070000
END:DAYLIGHT
BEGIN:STANDARD
TZOFFSETFROM:-0400
TZOFFSETTO:-0500
TZNAME:EST
DTSTART:20231105T060000
END:STANDARD
END:VTIMEZONE
BEGIN:VEVENT
DTSTART;TZID=America/Toronto:20230120T100000
DTEND;TZID=America/Toronto:20230120T130000
DTSTAMP:20260421T152733
CREATED:20221209T202441Z
LAST-MODIFIED:20230427T142752Z
UID:249120-1674208800-1674219600@www.mobilitynetwork.utoronto.ca
SUMMARY:Roundtable on Mobility and Climate Justice: Finding Connections
DESCRIPTION:Workshop objectives\n\nBring together Mobility Network faculty in the social science\, climate science and engineering  to strive toward a shared understanding of the intersections between transportation equity and climate change.\nIdentify policy relevant research questions.\nShare information discussed at the workshop with communities via an accessible communications product.\n\n\n\n\n\nAgenda\n10:10 - 10:20 - Introductions \n10:20 - 11:00 - Brief presentations by Professors Marianne Hatzopoulou\, Steven Farber\, and Shoshanna Saxe\, and Dr. Ignacio Tiznado Aitken. \n11:00 - 12:00 - Roundtable discussions will touch on four cross-cutting themes: \n\nNeed for speed versus long-term transitions\nPolicies at cross-purposes\nScale and context\nCommunity alliances\n\n12:00 - 1:00 - Lunch \n1:00 - Workshop ends \nRegister\nThis workshop is restricted to University of Toronto faculty. If you are interested in attending\, please email mobilitynetwork@utoronto.ca with the subject line "Equity & Climate Change Workshop" before January 18. \nThis event is presented in partnership\n\n\n\n\n\n\nMobility Network presents this workshop in partnership with Mobilizing Justice\, Positive Zero Transport Futures and the UTSC Suburban Mobilities Research Cluster. \n\n\n\n\nAbout the Finding Connections workshop series\nFinding Connections workshops bring together researchers from across the University of Toronto addressing the seven overarching mobility research areas we call Knowledge Clusters: \n\nUrban Equality & Inclusion\nClimate Change & Health\nMobility Technologies & Services\nFreight & Urban Goods Movement\nLand Use Planning & Economy\nBehavioural Analysis & Modelling\nGovernance\, Policy Analysis & Managing Change\n\n(See our website home page for descriptions of Knowledge Clusters). \nAdditional workshops will be announced. All University of Toronto faculty are welcome to attend. \nQuestions?\nFor more information please email us at mobilitynetwork@utoronto.ca with the subject line "Finding Connections."
URL:https://www.mobilitynetwork.utoronto.ca/event/equity-climate-change-workshop-finding-connections/
LOCATION:Galbraith Building\, Room GB202\, 35 St. George Street 2nd floor\, Toronto\, Ontario\, M5S 1A4\, Canada
CATEGORIES:Workshop
ATTACH;FMTTYPE=image/png:https://www.mobilitynetwork.utoronto.ca/wp-content/uploads/2022/12/2023-01-20-Roundtable-on-Mobility-and-Climate-Justice-FC.png
END:VEVENT
BEGIN:VEVENT
DTSTART;TZID=America/Toronto:20230120T110000
DTEND;TZID=America/Toronto:20230120T120000
DTSTAMP:20260421T152733
CREATED:20230117T154729Z
LAST-MODIFIED:20230328T195403Z
UID:249349-1674212400-1674216000@www.mobilitynetwork.utoronto.ca
SUMMARY:***CANCELLED**** Patricia Ayala presents 'Developing your protocol in knowledge syntheses: the key to success'
DESCRIPTION:Update Jan. 20/23: This seminar has been cancelled. \n****** \nLearn about the importance of developing a complete and thorough protocol for any knowledge synthesis project (systematic reviews\, scoping reviews\, rapid reviews). Aspects to consider ensuring success during all stages of the process. \nThis presentation will go over common pitfalls\, how to avoid them\, and includes an overview of the common steps of all method-driven reviews. \nAbout the speaker\nPatricia Ayala\nPatricia Ayala has worked on the development of the Systematic & Scoping Review Collaboration (SSRC) at Gerstein Science Information Centre\, focused on partnering with faculty and researchers engaged in systematic reviews\, scoping reviews and other types of knowledge syntheses. Patricia’s portfolio includes building and deepening relationships with faculty\, staff\, students\, and other researchers\, on campus\, within research institutes\, teaching hospitals\,  and national and international organizations.  She has degrees in Biology and Fine Arts from the University of North Carolina\, and Master in Information and Library Studies from the University of Toronto.  \nPresented by University of Toronto ITE Student Chapter\, UT-ITE. Free. All are welcome. \nIf any specific accommodations are needed\, please contact ite@studentorg.utoronto.ca. Requests should be made as early as possible.
URL:https://www.mobilitynetwork.utoronto.ca/event/patricia-ayala-presents-developing-your-protocol-in-knowledge-syntheses-the-key-to-success/
LOCATION:ITS Lab and Testbed\, SF3103\, Sandford Fleming Building\, University of Toronto\, 10 King's College Road\, 3rd Floor\, Room SF3103\, Toronto\, ON\, M5S 1A4\, Canada
CATEGORIES:Seminar/Webinar
ATTACH;FMTTYPE=image/png:https://www.mobilitynetwork.utoronto.ca/wp-content/uploads/2023/01/2022-01-20-Patricia-Ayala.png
ORGANIZER;CN="UT-ITE":MAILTO:ite@studentorg.utoronto.ca
END:VEVENT
END:VCALENDAR