BEGIN:VCALENDAR
VERSION:2.0
PRODID:-//Mobility Network at the University of Toronto - ECPv6.0.12//NONSGML v1.0//EN
CALSCALE:GREGORIAN
METHOD:PUBLISH
X-ORIGINAL-URL:https://www.mobilitynetwork.utoronto.ca
X-WR-CALDESC:Events for Mobility Network at the University of Toronto
REFRESH-INTERVAL;VALUE=DURATION:PT1H
X-Robots-Tag:noindex
X-PUBLISHED-TTL:PT1H
BEGIN:VTIMEZONE
TZID:America/Toronto
BEGIN:DAYLIGHT
TZOFFSETFROM:-0500
TZOFFSETTO:-0400
TZNAME:EDT
DTSTART:20230312T070000
END:DAYLIGHT
BEGIN:STANDARD
TZOFFSETFROM:-0400
TZOFFSETTO:-0500
TZNAME:EST
DTSTART:20231105T060000
END:STANDARD
END:VTIMEZONE
BEGIN:VEVENT
DTSTART;TZID=America/Toronto:20230209T180000
DTEND;TZID=America/Toronto:20230209T210000
DTSTAMP:20260422T021401
CREATED:20221209T165131Z
LAST-MODIFIED:20230427T142720Z
UID:249112-1675965600-1675976400@www.mobilitynetwork.utoronto.ca
SUMMARY:2023 U of T Transportation Alumni Reception
DESCRIPTION:Please join us for a night of networking and fun at the 2023 University of Toronto Transportation Alumni Reception! \nThis is your chance to reconnect with old friends and make new connections in the transportation industry. \nThe event will feature light refreshments and an opportunity to catch up with fellow alumni\, faculty\, friends and students who are all working in the transportation field. \nDon't miss out on this fantastic chance to be a part of the University of Toronto transportation community. \nTickets are $30 and include a drink and hors d’oeuvres. \nPlease join us and share this invitation with fellow U of T grads working in transportation! \nU of T Transportation Alumni Reception\, Faculty Club\, November 9\, 2017 (Photo: Taras Romancyshyn)\n\n\n\nGet your ticket now\nSpace is limited. Click on the ticket below to purchase tickets through Eventbrite: \n \nA big THANK YOU to our sponsors for making this event possible!\n\n\n\nWe thank our Tier 1 sponsors Dr. Mazen I.S. Hassounah\, HDR\, CIMA+\, Arcadis IBI Group and Tier 3 sponsors Streetlight Data\, TraffMobility Engineering Inc. \n\n\n\n\n\nAccessibility\n\n\n\n\nIf any specific accommodations are needed to attend this event\, please contact mobilitynetwork@utoronto.ca as early as possible. \nQuestions?\nContact us at mobilitynetwork@utoronto.ca. \nAbout the University of Toronto Transportation Alumni Network (UTTAN)\nEstablished in 2018 to bring together generations of U of T graduates who work in transportation\, UTTAN is a volunteer-run alumni community that plans events and programs for alumni and current U of T students interested in the transportation field. \nConnect with us on Facebook or LinkedIn and subscribe to email updates.
URL:https://www.mobilitynetwork.utoronto.ca/event/uttan-reception-2023/
LOCATION:Massey College Common Room\, 4 Devonshire Place\, Toronto\, ON\, M5S 2E1\, Canada
CATEGORIES:Alumni Reception
ATTACH;FMTTYPE=image/png:https://www.mobilitynetwork.utoronto.ca/wp-content/uploads/2022/12/2023-Alumni-Symposium-4.png
END:VEVENT
END:VCALENDAR