BEGIN:VCALENDAR
VERSION:2.0
PRODID:-//Mobility Network at the University of Toronto - ECPv6.0.12//NONSGML v1.0//EN
CALSCALE:GREGORIAN
METHOD:PUBLISH
X-WR-CALNAME:Mobility Network at the University of Toronto
X-ORIGINAL-URL:https://www.mobilitynetwork.utoronto.ca
X-WR-CALDESC:Events for Mobility Network at the University of Toronto
REFRESH-INTERVAL;VALUE=DURATION:PT1H
X-Robots-Tag:noindex
X-PUBLISHED-TTL:PT1H
BEGIN:VTIMEZONE
TZID:America/Toronto
BEGIN:DAYLIGHT
TZOFFSETFROM:-0500
TZOFFSETTO:-0400
TZNAME:EDT
DTSTART:20230312T070000
END:DAYLIGHT
BEGIN:STANDARD
TZOFFSETFROM:-0400
TZOFFSETTO:-0500
TZNAME:EST
DTSTART:20231105T060000
END:STANDARD
END:VTIMEZONE
BEGIN:VEVENT
DTSTART;TZID=America/Toronto:20230511T080000
DTEND;TZID=America/Toronto:20230511T150000
DTSTAMP:20260420T022723
CREATED:20230208T170006Z
LAST-MODIFIED:20230427T142601Z
UID:249815-1683792000-1683817200@www.mobilitynetwork.utoronto.ca
SUMMARY:CLUE 2023 Symposium
DESCRIPTION:City Logistics for the Urban Economy (CLUE) is proud to present its 2nd annual symposium\, showcasing the research of the project's second year and looking ahead to the future. \nInvitation-only and in person. \nDetails TBC. \n\n\nSymposium Chair\nDr. Matthew Roorda\, Professor\, Department of Civil & Mineral Engineering\, University of Toronto and Principal Investigator\, City Logistics for the Urban Economy (CLUE). \n\n\n\n\n\n 
URL:https://www.mobilitynetwork.utoronto.ca/event/clue-2023-symposium/
LOCATION:Faculty Club\, 41 Willcocks Street\, Toronto\, ON\, M5S 1C7\, Canada
CATEGORIES:Symposium
ATTACH;FMTTYPE=image/png:https://www.mobilitynetwork.utoronto.ca/wp-content/uploads/2023/02/CLUE-2023-Symposium.png
END:VEVENT
END:VCALENDAR