BEGIN:VCALENDAR
VERSION:2.0
PRODID:-//Mobility Network at the University of Toronto - ECPv6.0.12//NONSGML v1.0//EN
CALSCALE:GREGORIAN
METHOD:PUBLISH
X-WR-CALNAME:Mobility Network at the University of Toronto
X-ORIGINAL-URL:https://www.mobilitynetwork.utoronto.ca
X-WR-CALDESC:Events for Mobility Network at the University of Toronto
REFRESH-INTERVAL;VALUE=DURATION:PT1H
X-Robots-Tag:noindex
X-PUBLISHED-TTL:PT1H
BEGIN:VTIMEZONE
TZID:America/Toronto
BEGIN:DAYLIGHT
TZOFFSETFROM:-0500
TZOFFSETTO:-0400
TZNAME:EDT
DTSTART:20230312T070000
END:DAYLIGHT
BEGIN:STANDARD
TZOFFSETFROM:-0400
TZOFFSETTO:-0500
TZNAME:EST
DTSTART:20231105T060000
END:STANDARD
END:VTIMEZONE
BEGIN:VEVENT
DTSTART;TZID=America/Toronto:20231020T110000
DTEND;TZID=America/Toronto:20231020T130000
DTSTAMP:20260419T181801
CREATED:20231010T011817Z
LAST-MODIFIED:20231016T002711Z
UID:251446-1697799600-1697806800@www.mobilitynetwork.utoronto.ca
SUMMARY:NextGen Mobility Leaders Conference Prep Session 1
DESCRIPTION:On Friday October 20th from 11:00am - 1:00pm join the Mobility Network as we host our first Conference Prep Workshop of the term.\n\nAgenda\n11:00 - 11:10 - Introductions & Settling in\n11:10 - 12:00 - Presentation - Learning the skills to create excellent conference presentations\n12:00 - 12:20 - Exercise - Navigating Canva\, Word and PowerPoint to create posters within a provided template\n12:20 - 1:00 - Lunch\nRegister on Eventbrite for this event.
URL:https://www.mobilitynetwork.utoronto.ca/event/nextgen-mobility-leaders-conference-prep-session-1/
LOCATION:ITS Lab and Testbed\, SF3103\, Sandford Fleming Building\, University of Toronto\, 10 King's College Road\, 3rd Floor\, Room SF3103\, Toronto\, ON\, M5S 1A4\, Canada
CATEGORIES:Workshop
ATTACH;FMTTYPE=image/png:https://www.mobilitynetwork.utoronto.ca/wp-content/uploads/2023/10/NextGen-Mobility-Leaders-Program-4-1.png
END:VEVENT
END:VCALENDAR