BEGIN:VCALENDAR
VERSION:2.0
PRODID:-//Mobility Network at the University of Toronto - ECPv6.0.12//NONSGML v1.0//EN
CALSCALE:GREGORIAN
METHOD:PUBLISH
X-ORIGINAL-URL:https://www.mobilitynetwork.utoronto.ca
X-WR-CALDESC:Events for Mobility Network at the University of Toronto
REFRESH-INTERVAL;VALUE=DURATION:PT1H
X-Robots-Tag:noindex
X-PUBLISHED-TTL:PT1H
BEGIN:VTIMEZONE
TZID:America/Toronto
BEGIN:DAYLIGHT
TZOFFSETFROM:-0500
TZOFFSETTO:-0400
TZNAME:EDT
DTSTART:20230312T070000
END:DAYLIGHT
BEGIN:STANDARD
TZOFFSETFROM:-0400
TZOFFSETTO:-0500
TZNAME:EST
DTSTART:20231105T060000
END:STANDARD
END:VTIMEZONE
BEGIN:VEVENT
DTSTART;TZID=America/Toronto:20231201T110000
DTEND;TZID=America/Toronto:20231201T130000
DTSTAMP:20260421T195308
CREATED:20231010T012853Z
LAST-MODIFIED:20231010T012853Z
UID:251463-1701428400-1701435600@www.mobilitynetwork.utoronto.ca
SUMMARY:NextGen Mobility Leaders Conference Prep Session 3
DESCRIPTION:Mobility Network will host an interactive conference prep workshop on December 1\, 2023 regarding the NextGen Mobility Leaders Program. \nRegister on Eventbrite for this event.
URL:https://www.mobilitynetwork.utoronto.ca/event/nextgen-mobility-leaders-conference-prep-session-3/
LOCATION:ITS Lab and Testbed\, SF3103\, Sandford Fleming Building\, University of Toronto\, 10 King's College Road\, 3rd Floor\, Room SF3103\, Toronto\, ON\, M5S 1A4\, Canada
CATEGORIES:Workshop
ATTACH;FMTTYPE=image/png:https://www.mobilitynetwork.utoronto.ca/wp-content/uploads/2023/10/NextGen-Mobility-Leaders-Program-11.png
END:VEVENT
END:VCALENDAR