BEGIN:VCALENDAR
VERSION:2.0
PRODID:-//Mobility Network at the University of Toronto - ECPv6.0.12//NONSGML v1.0//EN
CALSCALE:GREGORIAN
METHOD:PUBLISH
X-ORIGINAL-URL:https://www.mobilitynetwork.utoronto.ca
X-WR-CALDESC:Events for Mobility Network at the University of Toronto
REFRESH-INTERVAL;VALUE=DURATION:PT1H
X-Robots-Tag:noindex
X-PUBLISHED-TTL:PT1H
BEGIN:VTIMEZONE
TZID:America/Toronto
BEGIN:DAYLIGHT
TZOFFSETFROM:-0500
TZOFFSETTO:-0400
TZNAME:EDT
DTSTART:20240310T070000
END:DAYLIGHT
BEGIN:STANDARD
TZOFFSETFROM:-0400
TZOFFSETTO:-0500
TZNAME:EST
DTSTART:20241103T060000
END:STANDARD
END:VTIMEZONE
BEGIN:VEVENT
DTSTART;TZID=America/Toronto:20240122T170000
DTEND;TZID=America/Toronto:20240122T200000
DTSTAMP:20260421T170055
CREATED:20240108T134235Z
LAST-MODIFIED:20240125T155252Z
UID:251589-1705942800-1705953600@www.mobilitynetwork.utoronto.ca
SUMMARY:UT-ITE x MN Career Talk Event with Kate Whitfield
DESCRIPTION:Attend the upcoming UT-ITE x MN Career Talk Event with Kate Whitfield On January 22\, 2024. \nRegister for this free event on Eventbrite.
URL:https://www.mobilitynetwork.utoronto.ca/event/ut-ite-x-mn-career-talk-event-with-kate-whitfield/
LOCATION:Galbraith Building\, Room GB117\, 35 St. George Street 2nd floor\, Toronto\, Ontario\, M5S 1A4\, Canada
ATTACH;FMTTYPE=image/png:https://www.mobilitynetwork.utoronto.ca/wp-content/uploads/2024/01/Sept-30-3.png
ORGANIZER;CN="Mobility%20Network":MAILTO:mobilitynetwork@utoronto.ca
END:VEVENT
END:VCALENDAR