BEGIN:VCALENDAR
VERSION:2.0
PRODID:-//Mobility Network at the University of Toronto - ECPv6.0.12//NONSGML v1.0//EN
CALSCALE:GREGORIAN
METHOD:PUBLISH
X-ORIGINAL-URL:https://www.mobilitynetwork.utoronto.ca
X-WR-CALDESC:Events for Mobility Network at the University of Toronto
REFRESH-INTERVAL;VALUE=DURATION:PT1H
X-Robots-Tag:noindex
X-PUBLISHED-TTL:PT1H
BEGIN:VTIMEZONE
TZID:America/Toronto
BEGIN:DAYLIGHT
TZOFFSETFROM:-0500
TZOFFSETTO:-0400
TZNAME:EDT
DTSTART:20240310T070000
END:DAYLIGHT
BEGIN:STANDARD
TZOFFSETFROM:-0400
TZOFFSETTO:-0500
TZNAME:EST
DTSTART:20241103T060000
END:STANDARD
END:VTIMEZONE
BEGIN:VEVENT
DTSTART;TZID=America/Toronto:20240126T110000
DTEND;TZID=America/Toronto:20240126T130000
DTSTAMP:20260421T224149
CREATED:20240118T155835Z
LAST-MODIFIED:20240125T151010Z
UID:251601-1706266800-1706274000@www.mobilitynetwork.utoronto.ca
SUMMARY:Mobility Network's 5MT Competition Kickoff
DESCRIPTION:Join us for lunch to launch the Mobility Network's 5MT Competition. During the event\, we'll go over the rules\, eligibility criteria\, and also provide information about upcoming HRKP workshops. Don't miss this opportunity! \nEligibility Criteria\n\nRegistered in a graduate program at time of the 5MT competition (made progress on research)\nA graduate student doing a major research study\nA Masters/PhD student who has defended\, but have not yet convocated\n\nRules\n\n5MT presentations must represent the primary research the student conducted in their graduate program.\nCompetitors must be available for the awards ceremony and agree to be video-recorded and photographed for public use\nCompetitors must submit their 5MT online via Mobility Network's submission form.\nThe decision of the adjudicating panel is final.\n\nRegister for this free event on Eventbrite. \n 
URL:https://www.mobilitynetwork.utoronto.ca/event/mobility-networks-5mt-competition-kickoff/
LOCATION:ITS Lab and Testbed\, SF3103\, Sandford Fleming Building\, University of Toronto\, 10 King's College Road\, 3rd Floor\, Room SF3103\, Toronto\, ON\, M5S 1A4\, Canada
CATEGORIES:5MT Competition
ATTACH;FMTTYPE=image/png:https://www.mobilitynetwork.utoronto.ca/wp-content/uploads/2024/01/Green-Mobility-Networks-5MT-Competition.png
END:VEVENT
BEGIN:VEVENT
DTSTART;TZID=America/Toronto:20240126T110000
DTEND;TZID=America/Toronto:20240126T130000
DTSTAMP:20260421T224149
CREATED:20240331T145727Z
LAST-MODIFIED:20240331T145727Z
UID:251733-1706266800-1706274000@www.mobilitynetwork.utoronto.ca
SUMMARY:5MT Competition Workshop #2: Creating your Submission & Script
DESCRIPTION:Join us for to the Mobility Network's 5MT Competition second workshop on Creating your Submission & Script. Lunch will be served. \nRegister for this free event on Eventbrite. \n 
URL:https://www.mobilitynetwork.utoronto.ca/event/5mt-competition-workshop-2-creating-your-submission-script/
LOCATION:ITS Lab and Testbed\, SF3103\, Sandford Fleming Building\, University of Toronto\, 10 King's College Road\, 3rd Floor\, Room SF3103\, Toronto\, ON\, M5S 1A4\, Canada
CATEGORIES:5MT Competition
ATTACH;FMTTYPE=image/png:https://www.mobilitynetwork.utoronto.ca/wp-content/uploads/2024/03/Sept-30-1.png
END:VEVENT
END:VCALENDAR