BEGIN:VCALENDAR
VERSION:2.0
PRODID:-//Mobility Network at the University of Toronto - ECPv6.0.12//NONSGML v1.0//EN
CALSCALE:GREGORIAN
METHOD:PUBLISH
X-ORIGINAL-URL:https://www.mobilitynetwork.utoronto.ca
X-WR-CALDESC:Events for Mobility Network at the University of Toronto
REFRESH-INTERVAL;VALUE=DURATION:PT1H
X-Robots-Tag:noindex
X-PUBLISHED-TTL:PT1H
BEGIN:VTIMEZONE
TZID:America/Toronto
BEGIN:DAYLIGHT
TZOFFSETFROM:-0500
TZOFFSETTO:-0400
TZNAME:EDT
DTSTART:20240310T070000
END:DAYLIGHT
BEGIN:STANDARD
TZOFFSETFROM:-0400
TZOFFSETTO:-0500
TZNAME:EST
DTSTART:20241103T060000
END:STANDARD
END:VTIMEZONE
BEGIN:VEVENT
DTSTART;TZID=America/Toronto:20241119T173000
DTEND;TZID=America/Toronto:20241119T193000
DTSTAMP:20260422T004300
CREATED:20241029T042104Z
LAST-MODIFIED:20241031T013046Z
UID:252172-1732037400-1732044600@www.mobilitynetwork.utoronto.ca
SUMMARY:Transportation Industry Night
DESCRIPTION:Join the Mobility Network for the Industry Night on November 19 from 5:30-7:30 PM at GB202. \n\nRegister on Eventbrite \n\n\n\n\n\n\n\nAgenda\n\n\n5:15 PM - 5:35 PM \nRegistration \n\n\n\n5:35 PM - 5:45 PM \nOpening Remarks - Mobility Network \n\n\n5:45 PM - 6:30 PM\nModerated Panel Presentations & Discussion\n\n\n\nAmy Z. Jiang\, Principal @ BA Consulting Group\nAli Hadayeghi\, Partner\, VP Transportation @ CIMA+\nVi Bui Program Manager\, Transport Planning @ York Region\nJulia Salvini\, President\, Salvini Consulting Inc.\n\n6:30 PM - 6:45 PM \nQ&A \n\n\n6:45 PM - 7:25 PM \nDinner/Networking \n7:25 PM - 7:30 PM \nClosing Remarks
URL:https://www.mobilitynetwork.utoronto.ca/event/industry-night/
LOCATION:Galbraith Building\, Room GB202\, 35 St. George Street 2nd floor\, Toronto\, Ontario\, M5S 1A4\, Canada
CATEGORIES:Industry Night
ATTACH;FMTTYPE=image/png:https://www.mobilitynetwork.utoronto.ca/wp-content/uploads/2024/10/Mobility-Network-Summer-School-2024-Measure-what-matters-Urban-mobility-in-an-era-of-climate-emergency-18.png
END:VEVENT
END:VCALENDAR