BEGIN:VCALENDAR
VERSION:2.0
PRODID:-//Mobility Network at the University of Toronto - ECPv6.0.12//NONSGML v1.0//EN
CALSCALE:GREGORIAN
METHOD:PUBLISH
X-ORIGINAL-URL:https://www.mobilitynetwork.utoronto.ca
X-WR-CALDESC:Events for Mobility Network at the University of Toronto
REFRESH-INTERVAL;VALUE=DURATION:PT1H
X-Robots-Tag:noindex
X-PUBLISHED-TTL:PT1H
BEGIN:VTIMEZONE
TZID:America/Toronto
BEGIN:DAYLIGHT
TZOFFSETFROM:-0500
TZOFFSETTO:-0400
TZNAME:EDT
DTSTART:20250309T070000
END:DAYLIGHT
BEGIN:STANDARD
TZOFFSETFROM:-0400
TZOFFSETTO:-0500
TZNAME:EST
DTSTART:20251102T060000
END:STANDARD
END:VTIMEZONE
BEGIN:VEVENT
DTSTART;TZID=America/Toronto:20250226T120000
DTEND;TZID=America/Toronto:20250226T140000
DTSTAMP:20260422T053004
CREATED:20241107T134214Z
LAST-MODIFIED:20241107T134214Z
UID:252193-1740571200-1740578400@www.mobilitynetwork.utoronto.ca
SUMMARY:5MT Competition Awards Ceremony
DESCRIPTION:Join us for lunch to celebrate Mobility Network's 5MT Competition winners. Please register at Eventbrite. \nAgenda:\n> 12:00 - 12:10 PM - Soft entry & refreshments\n> 12:10 - 12:20 PM - Mobility Network introductory remarks\n> 12:20 - 12:40 PM - Viewing the top 3 video submissions\n> 12:40 - 12:50 PM - Awards\, Presented by Alex Ariza\n> 12:50 - 1:00 PM - Photo-Op\n> 1:00 - 1:40 PM - Lunch is served\n> 1:40 - 2:00 PM - Closing remarks
URL:https://www.mobilitynetwork.utoronto.ca/event/5mt-competition-awards-ceremony/
LOCATION:Galbraith Building\, Room GB202\, 35 St. George Street 2nd floor\, Toronto\, Ontario\, M5S 1A4\, Canada
CATEGORIES:5MT Competition
ATTACH;FMTTYPE=image/png:https://www.mobilitynetwork.utoronto.ca/wp-content/uploads/2024/11/Mobility-Network-Summer-School-2024-Measure-what-matters-Urban-mobility-in-an-era-of-climate-emergency-21.png
END:VEVENT
END:VCALENDAR