BEGIN:VCALENDAR
VERSION:2.0
PRODID:-//Mobility Network at the University of Toronto - ECPv6.0.12//NONSGML v1.0//EN
CALSCALE:GREGORIAN
METHOD:PUBLISH
X-WR-CALNAME:Mobility Network at the University of Toronto
X-ORIGINAL-URL:https://www.mobilitynetwork.utoronto.ca
X-WR-CALDESC:Events for Mobility Network at the University of Toronto
REFRESH-INTERVAL;VALUE=DURATION:PT1H
X-Robots-Tag:noindex
X-PUBLISHED-TTL:PT1H
BEGIN:VTIMEZONE
TZID:America/Toronto
BEGIN:DAYLIGHT
TZOFFSETFROM:-0500
TZOFFSETTO:-0400
TZNAME:EDT
DTSTART:20250309T070000
END:DAYLIGHT
BEGIN:STANDARD
TZOFFSETFROM:-0400
TZOFFSETTO:-0500
TZNAME:EST
DTSTART:20251102T060000
END:STANDARD
END:VTIMEZONE
BEGIN:VEVENT
DTSTART;TZID=America/Toronto:20250505T173000
DTEND;TZID=America/Toronto:20250505T193000
DTSTAMP:20260419T194225
CREATED:20250528T081209Z
LAST-MODIFIED:20250528T081209Z
UID:252946-1746466200-1746473400@www.mobilitynetwork.utoronto.ca
SUMMARY:UTTAN Annual General Meeting
DESCRIPTION:📅 Mark Your Calendars! 📅\n\nJoin us on May 5th  for the U of T Transportation Alumni Network Annual General Meeting (AGM) at Galbraith Building\, UofT from 5:30 pm -7:30 pm ! This is your chance to look back on the highlights of 2024 and help shape the future by confirming the 2025 executive committee.\n\nWant to get more involved? We're looking for enthusiastic alumni to join our 2025/26 executive team! It's a great way to give back\, grow your network\, and stay engaged with the transportation community. 🚀 💪\n\nhttps://lnkd.in/eCnNn7Qd
URL:https://www.mobilitynetwork.utoronto.ca/event/uttan-annual-general-meeting/
LOCATION:Galbraith Building\, Room GB202\, 35 St. George Street 2nd floor\, Toronto\, Ontario\, M5S 1A4\, Canada
CATEGORIES:Annual Meeting
ATTACH;FMTTYPE=image/jpeg:https://www.mobilitynetwork.utoronto.ca/wp-content/uploads/2025/05/2024.jpg
END:VEVENT
END:VCALENDAR