BEGIN:VCALENDAR
VERSION:2.0
PRODID:-//Mobility Network at the University of Toronto - ECPv6.0.12//NONSGML v1.0//EN
CALSCALE:GREGORIAN
METHOD:PUBLISH
X-WR-CALNAME:Mobility Network at the University of Toronto
X-ORIGINAL-URL:https://www.mobilitynetwork.utoronto.ca
X-WR-CALDESC:Events for Mobility Network at the University of Toronto
REFRESH-INTERVAL;VALUE=DURATION:PT1H
X-Robots-Tag:noindex
X-PUBLISHED-TTL:PT1H
BEGIN:VTIMEZONE
TZID:America/Toronto
BEGIN:DAYLIGHT
TZOFFSETFROM:-0500
TZOFFSETTO:-0400
TZNAME:EDT
DTSTART:20250309T070000
END:DAYLIGHT
BEGIN:STANDARD
TZOFFSETFROM:-0400
TZOFFSETTO:-0500
TZNAME:EST
DTSTART:20251102T060000
END:STANDARD
END:VTIMEZONE
BEGIN:VEVENT
DTSTART;TZID=America/Toronto:20250618T120000
DTEND;TZID=America/Toronto:20250618T160000
DTSTAMP:20260419T111412
CREATED:20250610T082020Z
LAST-MODIFIED:20250610T082020Z
UID:252961-1750248000-1750262400@www.mobilitynetwork.utoronto.ca
SUMMARY:City Logistics for the Urban Economy (CLUE) Annual Symposium 2025
DESCRIPTION:Professor Matthew J. Roorda\, on behalf of the City Logistics for Urban Economy\, invites you to the 2025 CLUE Symposium on June 18th\, 2025 from 12:00pm - 4:00pm. \nIt will be hosted at the Myhal Centre for Engineering Innovation and Entrepreneurship (MY) 5th floor Atrium (St.George campus). \nBuilding on the success of the previous symposiums\, the 2025 CLUE Symposium will showcase the past year’s development of the several CLUE-related research projects. This year’s symposium will follow a knowledge café/poster competition format\, at which participants will be able to discuss the research directly with the graduate students and researchers from our sponsoring organizations. \n  \nAgenda\n\n\n12:00 PM - 12:30 PM\nLunch: The food will be halal with vegetarian options available\, but we would need to know of any allergies. Please mention any dietary restrictions in your registration. \n\n\n\n\n12:30 PM - 12:45 PM\nWelcome \n\n\n\n\n12:45 PM - 2:00 PM\nPoster Session #1 \n\n\n\n\n2:00 PM - 2:30 PM\nCoffee Break & Networking \n\n\n\n\n2:30 PM - 3:45 PM\nPoster Session #2 \n\n\n\n\n3:45 PM - 4:00 PM\nAwards & Closing Remarks \n  \n\n\nSymposium Chair\nDr. Matthew Roorda\, Canada Research Chair in Freight Transportation and Logistics \nProfessor\, Department of Civil & Mineral Engineering\, University of Toronto \nQuestions?\nPlease email matt.roorda@utoronto.ca with any questions
URL:https://www.mobilitynetwork.utoronto.ca/event/city-logistics-for-the-urban-economy-clue-annual-symposium-2025/
LOCATION:Myhal Centre for Engineering Innovation and Entrepreneurship (MY) 55 Saint George Street Toronto\, ON M5S 0C9
CATEGORIES:Symposium
ATTACH;FMTTYPE=image/png:https://www.mobilitynetwork.utoronto.ca/wp-content/uploads/2025/06/Screenshot-2025-06-10-at-3.17.52-PM.png
END:VEVENT
END:VCALENDAR