BEGIN:VCALENDAR
VERSION:2.0
PRODID:-//Mobility Network at the University of Toronto - ECPv6.0.12//NONSGML v1.0//EN
CALSCALE:GREGORIAN
METHOD:PUBLISH
X-WR-CALNAME:Mobility Network at the University of Toronto
X-ORIGINAL-URL:https://www.mobilitynetwork.utoronto.ca
X-WR-CALDESC:Events for Mobility Network at the University of Toronto
REFRESH-INTERVAL;VALUE=DURATION:PT1H
X-Robots-Tag:noindex
X-PUBLISHED-TTL:PT1H
BEGIN:VTIMEZONE
TZID:America/Toronto
BEGIN:DAYLIGHT
TZOFFSETFROM:-0500
TZOFFSETTO:-0400
TZNAME:EDT
DTSTART:20250309T070000
END:DAYLIGHT
BEGIN:STANDARD
TZOFFSETFROM:-0400
TZOFFSETTO:-0500
TZNAME:EST
DTSTART:20251102T060000
END:STANDARD
END:VTIMEZONE
BEGIN:VEVENT
DTSTART;TZID=America/Toronto:20250121T140000
DTEND;TZID=America/Toronto:20250121T160000
DTSTAMP:20260419T181801
CREATED:20241115T164115Z
LAST-MODIFIED:20241115T164115Z
UID:252234-1737468000-1737475200@www.mobilitynetwork.utoronto.ca
SUMMARY:MN Community of Practice for PDF's Session #4
DESCRIPTION:Are you a post-doctoral fellow working on any transport or mobility related projects? Join us on January 21st for our fourth Community of Practice Session for PDF's. This is a safe space for post-docs to connect\, share ideas and collaborate amongst each other. \nPlease contact Khadija Butt at khadija.butt@utoronto.ca for more information.
URL:https://www.mobilitynetwork.utoronto.ca/event/mn-community-of-practice-for-pdfs-session-4/
LOCATION:Galbraith Building\, Room GB404\, 35 St George St\, Toronto\, Ontario\, M5S 1A4
CATEGORIES:Community of Practice
ATTACH;FMTTYPE=image/png:https://www.mobilitynetwork.utoronto.ca/wp-content/uploads/2024/11/Mobility-Network-Summer-School-2024-Measure-what-matters-Urban-mobility-in-an-era-of-climate-emergency-25.png
END:VEVENT
BEGIN:VEVENT
DTSTART;TZID=America/Toronto:20250128T110000
DTEND;TZID=America/Toronto:20250130T160000
DTSTAMP:20260419T181801
CREATED:20250115T223517Z
LAST-MODIFIED:20250115T223517Z
UID:252330-1738062000-1738252800@www.mobilitynetwork.utoronto.ca
SUMMARY:Careers in Transportation: TAC's 2025 Online Open House for Students
DESCRIPTION:On January 28 and 30 from 11am - 16pm\, the Transportation Association of Canada (TAC) is hosting an important Online Open House for students. This event will feature 31 employers presenting their job opportunities to an audience of university and college students from across Canada.  \nLearn about permanent\, co-op\, summer & internship opportunities\n\nOpen to university and college students in any discipline.\nHear from 31 businesses and governmental organizations from across Canada.\nLearn about career paths\, hiring programs\, tips for applying\, and more.\nEmployers will present in their official language(s) of preference.\nEmployer presentations will be relevant to many disciplines (e.g. civil/geotechnical/electrical/mechanical engineering as well as planning\, information technology\, environmental science\, geomatics and construction).\n\nHow to attend\n\nIt’s free! Register using your university/college email address.\nSimply join the online event during an employer’s scheduled window to listen and ask questions.\nAn event schedule and more information on employers will be available in January.\n\nVisit this link or scan the QR code in the flyers attached below to register for both events!\n \n  \n 
URL:https://www.mobilitynetwork.utoronto.ca/event/careers-in-transportation-tacs-2025-online-open-house-for-students/
LOCATION:Online
CATEGORIES:Seminar/Webinar,Student-Industry Mixer
END:VEVENT
END:VCALENDAR